BEGIN:VCALENDAR
VERSION:2.0
PRODID:-//Nepali Calendar//EN
BEGIN:VEVENT
UID:a12b73f85b8b1d97acd0201cb0b3f958@nepalicalendar.com
DTSTAMP:20260421T101750Z
DTSTART;VALUE=DATE:20260213
DTEND;VALUE=DATE:20260214
SUMMARY:विजया एकादशी व्रत
DESCRIPTION:विजया एकादशी व्रत
END:VEVENT
END:VCALENDAR