BEGIN:VCALENDAR
VERSION:2.0
PRODID:-//Nepali Calendar//EN
BEGIN:VEVENT
UID:3d2563f0b7160fad67566e6ce6c046e8@nepalicalendar.com
DTSTAMP:20260421T101638Z
DTSTART;VALUE=DATE:20260213
DTEND;VALUE=DATE:20260214
SUMMARY:कुम्भ संक्रान्ति
DESCRIPTION:कुम्भ संक्रान्ति
END:VEVENT
END:VCALENDAR