BEGIN:VCALENDAR
VERSION:2.0
PRODID:-//Nepali Calendar//EN
BEGIN:VEVENT
UID:ff6e36a63691046cdcff4054f669bd7d@nepalicalendar.com
DTSTAMP:20260422T023330Z
DTSTART;VALUE=DATE:20250427
DTEND;VALUE=DATE:20250428
SUMMARY:मातातीर्थ औंसी
DESCRIPTION:मातातीर्थ औंसी
END:VEVENT
END:VCALENDAR