BEGIN:VCALENDAR
VERSION:2.0
PRODID:-//Nepali Calendar//EN
BEGIN:VEVENT
UID:a144d66907ca25b6a1a50f3f38672a98@nepalicalendar.com
DTSTAMP:20260421T145208Z
DTSTART;VALUE=DATE:20251215
DTEND;VALUE=DATE:20251216
SUMMARY:सफला एकादशी व्रत
DESCRIPTION:सफला एकादशी व्रत
END:VEVENT
END:VCALENDAR