BEGIN:VCALENDAR
VERSION:2.0
PRODID:-//Nepali Calendar//EN
BEGIN:VEVENT
UID:384d9b1ee996db0d887bf7dadc7e5ffc@nepalicalendar.com
DTSTAMP:20260421T145328Z
DTSTART;VALUE=DATE:20251212
DTEND;VALUE=DATE:20251213
SUMMARY:अन्तर्राष्ट्रिय तटस्थ दिवस
DESCRIPTION:अन्तर्राष्ट्रिय तटस्थ दिवस
END:VEVENT
END:VCALENDAR