BEGIN:VCALENDAR
VERSION:2.0
PRODID:-//Nepali Calendar//EN
BEGIN:VEVENT
UID:66c19a56956f44560f6d639f697d36c3@nepalicalendar.com
DTSTAMP:20260421T145107Z
DTSTART;VALUE=DATE:20251211
DTEND;VALUE=DATE:20251212
SUMMARY:अन्तर्राष्ट्रिय पर्वत दिवस
DESCRIPTION:अन्तर्राष्ट्रिय पर्वत दिवस
END:VEVENT
END:VCALENDAR