BEGIN:VCALENDAR
VERSION:2.0
PRODID:-//Nepali Calendar//EN
BEGIN:VEVENT
UID:1eef74c89dfa0af280d8c554966de3ad@nepalicalendar.com
DTSTAMP:20260421T144953Z
DTSTART;VALUE=DATE:20251210
DTEND;VALUE=DATE:20251211
SUMMARY:अन्तर्राष्ट्रिय मानव अधिकार दिवस
DESCRIPTION:अन्तर्राष्ट्रिय मानव अधिकार दिवस
END:VEVENT
END:VCALENDAR