BEGIN:VCALENDAR
VERSION:2.0
PRODID:-//Nepali Calendar//EN
BEGIN:VEVENT
UID:fa9db026a91aef0879251200b8e24ab6@nepalicalendar.com
DTSTAMP:20260421T145543Z
DTSTART;VALUE=DATE:20251209
DTEND;VALUE=DATE:20251210
SUMMARY:अन्तर्राष्ट्रिय भ्रष्टाचार विरुद्ध दिवस
DESCRIPTION:अन्तर्राष्ट्रिय भ्रष्टाचार विरुद्ध दिवस
END:VEVENT
END:VCALENDAR