BEGIN:VCALENDAR
VERSION:2.0
PRODID:-//Nepali Calendar//EN
BEGIN:VEVENT
UID:0d3dafe1ed2518e5419acdfae5c6beb0@nepalicalendar.com
DTSTAMP:20260421T144911Z
DTSTART;VALUE=DATE:20251208
DTEND;VALUE=DATE:20251209
SUMMARY:अन्तर्राष्ट्रिय मर्यादित महिनावारी दिवस
DESCRIPTION:अन्तर्राष्ट्रिय मर्यादित महिनावारी दिवस
END:VEVENT
END:VCALENDAR