BEGIN:VCALENDAR
VERSION:2.0
PRODID:-//Nepali Calendar//EN
BEGIN:VEVENT
UID:c5cd6e620bb5f46dcd0c0372691ae3c1@nepalicalendar.com
DTSTAMP:20260421T144859Z
DTSTART;VALUE=DATE:20251207
DTEND;VALUE=DATE:20251208
SUMMARY:अन्तर्राष्ट्रिय नागरिक उड्डयन दिवस
DESCRIPTION:अन्तर्राष्ट्रिय नागरिक उड्डयन दिवस
END:VEVENT
END:VCALENDAR