BEGIN:VCALENDAR
VERSION:2.0
PRODID:-//Nepali Calendar//EN
BEGIN:VEVENT
UID:2754b341c677d96d4538e5f1be8f8015@nepalicalendar.com
DTSTAMP:20260421T145544Z
DTSTART;VALUE=DATE:20251205
DTEND;VALUE=DATE:20251206
SUMMARY:विश्व माटो दिवस
DESCRIPTION:विश्व माटो दिवस
END:VEVENT
END:VCALENDAR