BEGIN:VCALENDAR
VERSION:2.0
PRODID:-//Nepali Calendar//EN
BEGIN:VEVENT
UID:bae09c1624f401e17511c3dd5f7175fe@nepalicalendar.com
DTSTAMP:20260421T145339Z
DTSTART;VALUE=DATE:20251205
DTEND;VALUE=DATE:20251206
SUMMARY:अन्तर्राष्ट्रिय स्वयंसेवक दिवस
DESCRIPTION:अन्तर्राष्ट्रिय स्वयंसेवक दिवस
END:VEVENT
END:VCALENDAR