BEGIN:VCALENDAR
VERSION:2.0
PRODID:-//Nepali Calendar//EN
BEGIN:VEVENT
UID:57fbd4a0a2bf21b9b977ce84f5f7e378@nepalicalendar.com
DTSTAMP:20260422T023438Z
DTSTART;VALUE=DATE:20250426
DTEND;VALUE=DATE:20250427
SUMMARY:विश्व बौद्धिक सम्पत्ति दिवस
DESCRIPTION:विश्व बौद्धिक सम्पत्ति दिवस
END:VEVENT
END:VCALENDAR