BEGIN:VCALENDAR
VERSION:2.0
PRODID:-//Nepali Calendar//EN
BEGIN:VEVENT
UID:d2b63fa8c83cd684eb57831ae7f5f9fe@nepalicalendar.com
DTSTAMP:20260421T163716Z
DTSTART;VALUE=DATE:20251204
DTEND;VALUE=DATE:20251205
SUMMARY:ज्यापु दिवस
DESCRIPTION:ज्यापु दिवस
END:VEVENT
END:VCALENDAR