BEGIN:VCALENDAR
VERSION:2.0
PRODID:-//Nepali Calendar//EN
BEGIN:VEVENT
UID:7d5c01ea82b49f974eea20fbef4ad491@nepalicalendar.com
DTSTAMP:20260421T145237Z
DTSTART;VALUE=DATE:20251204
DTEND;VALUE=DATE:20251205
SUMMARY:य:मरि पुन्हि
DESCRIPTION:य:मरि पुन्हि
END:VEVENT
END:VCALENDAR