BEGIN:VCALENDAR
VERSION:2.0
PRODID:-//Nepali Calendar//EN
BEGIN:VEVENT
UID:46dd2bd08a824b589771667c0751cc8a@nepalicalendar.com
DTSTAMP:20260421T145328Z
DTSTART;VALUE=DATE:20251204
DTEND;VALUE=DATE:20251205
SUMMARY:धान्यपुर्णिमा
DESCRIPTION:धान्यपुर्णिमा
END:VEVENT
END:VCALENDAR