BEGIN:VCALENDAR
VERSION:2.0
PRODID:-//Nepali Calendar//EN
BEGIN:VEVENT
UID:da4445b6022b7a378762c9cdf3a3c731@nepalicalendar.com
DTSTAMP:20260421T144924Z
DTSTART;VALUE=DATE:20251203
DTEND;VALUE=DATE:20251204
SUMMARY:अन्तर्राष्ट्रिय अपाङ्ग दिवस (विशेष क्षमता भएका कर्मचारीलाई मात्र)
DESCRIPTION:अन्तर्राष्ट्रिय अपाङ्ग दिवस (विशेष क्षमता भएका कर्मचारीलाई मात्र)
END:VEVENT
END:VCALENDAR