BEGIN:VCALENDAR
VERSION:2.0
PRODID:-//Nepali Calendar//EN
BEGIN:VEVENT
UID:5366cd6c4bde5b6393f957992c7c1712@nepalicalendar.com
DTSTAMP:20260421T145204Z
DTSTART;VALUE=DATE:20251202
DTEND;VALUE=DATE:20251203
SUMMARY:अन्तर्राष्ट्रिय दासता उन्मूलन दिवस
DESCRIPTION:अन्तर्राष्ट्रिय दासता उन्मूलन दिवस
END:VEVENT
END:VCALENDAR