BEGIN:VCALENDAR
VERSION:2.0
PRODID:-//Nepali Calendar//EN
BEGIN:VEVENT
UID:2f4d63d3f90b0d73010bd48bc648e50c@nepalicalendar.com
DTSTAMP:20260421T145543Z
DTSTART;VALUE=DATE:20251201
DTEND;VALUE=DATE:20251202
SUMMARY:विश्व एड्स दिवस
DESCRIPTION:विश्व एड्स दिवस
END:VEVENT
END:VCALENDAR