BEGIN:VCALENDAR
VERSION:2.0
PRODID:-//Nepali Calendar//EN
BEGIN:VEVENT
UID:3dbbc788a9ee887925040ad6069cc3ba@nepalicalendar.com
DTSTAMP:20260421T145132Z
DTSTART;VALUE=DATE:20251201
DTEND;VALUE=DATE:20251202
SUMMARY:गीता जयन्ती
DESCRIPTION:गीता जयन्ती
END:VEVENT
END:VCALENDAR