BEGIN:VCALENDAR
VERSION:2.0
PRODID:-//Nepali Calendar//EN
BEGIN:VEVENT
UID:c89f1182e4cfe8e31c1261da91f5dc3f@nepalicalendar.com
DTSTAMP:20260421T145132Z
DTSTART;VALUE=DATE:20251201
DTEND;VALUE=DATE:20251202
SUMMARY:मोक्षदा एकादशी
DESCRIPTION:मोक्षदा एकादशी
END:VEVENT
END:VCALENDAR