BEGIN:VCALENDAR
VERSION:2.0
PRODID:-//Nepali Calendar//EN
BEGIN:VEVENT
UID:6b73e4991515ebb434638b7384438f76@nepalicalendar.com
DTSTAMP:20260422T023402Z
DTSTART;VALUE=DATE:20250425
DTEND;VALUE=DATE:20250426
SUMMARY:विश्व औंलो दिवस
DESCRIPTION:विश्व औंलो दिवस
END:VEVENT
END:VCALENDAR