BEGIN:VCALENDAR
VERSION:2.0
PRODID:-//Nepali Calendar//EN
BEGIN:VEVENT
UID:3813920ee11fabbe7bea2f912b7b345e@nepalicalendar.com
DTSTAMP:20260421T145339Z
DTSTART;VALUE=DATE:20251125
DTEND;VALUE=DATE:20251126
SUMMARY:अन्तर्राष्ट्रिय महिला हिंसा अन्त्य दिवस
DESCRIPTION:अन्तर्राष्ट्रिय महिला हिंसा अन्त्य दिवस
END:VEVENT
END:VCALENDAR