BEGIN:VCALENDAR
VERSION:2.0
PRODID:-//Nepali Calendar//EN
BEGIN:VEVENT
UID:d7a120d57c7f2787bc9cd6366f4b70ca@nepalicalendar.com
DTSTAMP:20260421T145450Z
DTSTART;VALUE=DATE:20251125
DTEND;VALUE=DATE:20251126
SUMMARY:षडानन्द जयन्ती
DESCRIPTION:षडानन्द जयन्ती
END:VEVENT
END:VCALENDAR