BEGIN:VCALENDAR
VERSION:2.0
PRODID:-//Nepali Calendar//EN
BEGIN:VEVENT
UID:2f67b265f617d04b7ab85c6fd19d2e29@nepalicalendar.com
DTSTAMP:20260421T145108Z
DTSTART;VALUE=DATE:20251125
DTEND;VALUE=DATE:20251126
SUMMARY:विवाह पञ्चमी
DESCRIPTION:विवाह पञ्चमी
END:VEVENT
END:VCALENDAR