BEGIN:VCALENDAR
VERSION:2.0
PRODID:-//Nepali Calendar//EN
BEGIN:VEVENT
UID:c20194f22eb0efec9b08ec45930341da@nepalicalendar.com
DTSTAMP:20260421T145040Z
DTSTART;VALUE=DATE:20251121
DTEND;VALUE=DATE:20251122
SUMMARY:विश्व टेलिभिजन दिवस
DESCRIPTION:विश्व टेलिभिजन दिवस
END:VEVENT
END:VCALENDAR