BEGIN:VCALENDAR
VERSION:2.0
PRODID:-//Nepali Calendar//EN
BEGIN:VEVENT
UID:de461653eef733c5c1493b60e393fd4d@nepalicalendar.com
DTSTAMP:20260421T130832Z
DTSTART;VALUE=DATE:20260114
DTEND;VALUE=DATE:20260115
SUMMARY:षट्तिला एकादशी
DESCRIPTION:षट्तिला एकादशी
END:VEVENT
END:VCALENDAR