BEGIN:VCALENDAR
VERSION:2.0
PRODID:-//Nepali Calendar//EN
BEGIN:VEVENT
UID:07e106c56713b01fba208c33ebf319ba@nepalicalendar.com
DTSTAMP:20260421T130734Z
DTSTART;VALUE=DATE:20260113
DTEND;VALUE=DATE:20260114
SUMMARY:राष्ट्रिय भाक्का दिवस
DESCRIPTION:राष्ट्रिय भाक्का दिवस
END:VEVENT
END:VCALENDAR