BEGIN:VCALENDAR
VERSION:2.0
PRODID:-//Nepali Calendar//EN
BEGIN:VEVENT
UID:e37d430ee02ed890a6be64b24af7ff18@nepalicalendar.com
DTSTAMP:20260421T130754Z
DTSTART;VALUE=DATE:20260111
DTEND;VALUE=DATE:20260112
SUMMARY:राष्ट्रिय एकता दिवस
DESCRIPTION:राष्ट्रिय एकता दिवस
END:VEVENT
END:VCALENDAR