BEGIN:VCALENDAR
VERSION:2.0
PRODID:-//Nepali Calendar//EN
BEGIN:VEVENT
UID:fac69351df3480ff7ab30040ca06bd44@nepalicalendar.com
DTSTAMP:20260421T130720Z
DTSTART;VALUE=DATE:20260111
DTEND;VALUE=DATE:20260112
SUMMARY:पृथ्वी जयन्ती
DESCRIPTION:पृथ्वी जयन्ती
END:VEVENT
END:VCALENDAR