BEGIN:VCALENDAR
VERSION:2.0
PRODID:-//Nepali Calendar//EN
BEGIN:VEVENT
UID:462dc1bc4bc83a427c472288871fe525@nepalicalendar.com
DTSTAMP:20260421T130754Z
DTSTART;VALUE=DATE:20260108
DTEND;VALUE=DATE:20260109
SUMMARY:नेपाल ज्योतिष परिषद स्थापना दिवस
DESCRIPTION:नेपाल ज्योतिष परिषद स्थापना दिवस
END:VEVENT
END:VCALENDAR