BEGIN:VCALENDAR
VERSION:2.0
PRODID:-//Nepali Calendar//EN
BEGIN:VEVENT
UID:3d54640b3073fa93b9e51d6139574211@nepalicalendar.com
DTSTAMP:20260421T131036Z
DTSTART;VALUE=DATE:20260107
DTEND;VALUE=DATE:20260108
SUMMARY:अरनिको स्मृति दिवस
DESCRIPTION:अरनिको स्मृति दिवस
END:VEVENT
END:VCALENDAR