BEGIN:VCALENDAR
VERSION:2.0
PRODID:-//Nepali Calendar//EN
BEGIN:VEVENT
UID:569078efad18104d4c93a688c3f5cf23@nepalicalendar.com
DTSTAMP:20260421T130851Z
DTSTART;VALUE=DATE:20260105
DTEND;VALUE=DATE:20260106
SUMMARY:गुरु गोबिन्द सिंह जयन्ती
DESCRIPTION:गुरु गोबिन्द सिंह जयन्ती
END:VEVENT
END:VCALENDAR