BEGIN:VCALENDAR
VERSION:2.0
PRODID:-//Nepali Calendar//EN
BEGIN:VEVENT
UID:75ab071cc8f7ebf04af08be9afb63b47@nepalicalendar.com
DTSTAMP:20260421T130707Z
DTSTART;VALUE=DATE:20260103
DTEND;VALUE=DATE:20260104
SUMMARY:पूर्णिमा व्रत
DESCRIPTION:पूर्णिमा व्रत
END:VEVENT
END:VCALENDAR