BEGIN:VCALENDAR
VERSION:2.0
PRODID:-//Nepali Calendar//EN
BEGIN:VEVENT
UID:b97a6929f9fc1c62625b3be34d151e10@nepalicalendar.com
DTSTAMP:20260421T130707Z
DTSTART;VALUE=DATE:20260103
DTEND;VALUE=DATE:20260104
SUMMARY:माघ स्नान
DESCRIPTION:माघ स्नान
END:VEVENT
END:VCALENDAR