BEGIN:VCALENDAR
VERSION:2.0
PRODID:-//Nepali Calendar//EN
BEGIN:VEVENT
UID:a46a7d86363762f938fe41919c1fa42b@nepalicalendar.com
DTSTAMP:20260421T130832Z
DTSTART;VALUE=DATE:20260103
DTEND;VALUE=DATE:20260104
SUMMARY:श्री स्वस्थानी व्रत कथा प्रारम्भ
DESCRIPTION:श्री स्वस्थानी व्रत कथा प्रारम्भ
END:VEVENT
END:VCALENDAR