BEGIN:VCALENDAR
VERSION:2.0
PRODID:-//Nepali Calendar//EN
BEGIN:VEVENT
UID:a836ee63a5fac4b1d31dda58b77b53c2@nepalicalendar.com
DTSTAMP:20260421T144922Z
DTSTART;VALUE=DATE:20260101
DTEND;VALUE=DATE:20260102
SUMMARY:पोशाक दिवस
DESCRIPTION:पोशाक दिवस
END:VEVENT
END:VCALENDAR