BEGIN:VCALENDAR
VERSION:2.0
PRODID:-//Nepali Calendar//EN
BEGIN:VEVENT
UID:52f6a71bbd9d7e6b1d23f65037dcdbc5@nepalicalendar.com
DTSTAMP:20260421T130720Z
DTSTART;VALUE=DATE:20260101
DTEND;VALUE=DATE:20260102
SUMMARY:टोपी दिवस
DESCRIPTION:टोपी दिवस
END:VEVENT
END:VCALENDAR