BEGIN:VCALENDAR
VERSION:2.0
PRODID:-//Nepali Calendar//EN
BEGIN:VEVENT
UID:f944be0a8743b1d5099f4188178aad40@nepalicalendar.com
DTSTAMP:20260421T130546Z
DTSTART;VALUE=DATE:20260101
DTEND;VALUE=DATE:20260102
SUMMARY:नयाँ वर्ष २०२६
DESCRIPTION:नयाँ वर्ष २०२६
END:VEVENT
END:VCALENDAR