BEGIN:VCALENDAR
VERSION:2.0
PRODID:-//Nepali Calendar//EN
BEGIN:VEVENT
UID:336c362c642e39427a96373a16b875cd@nepalicalendar.com
DTSTAMP:20260422T023142Z
DTSTART;VALUE=DATE:20250425
DTEND;VALUE=DATE:20250426
SUMMARY:वि.सं. २०७२ सालको महाभूकम्पको सम्झना
DESCRIPTION:वि.सं. २०७२ सालको महाभूकम्पको सम्झना
END:VEVENT
END:VCALENDAR