BEGIN:VCALENDAR
VERSION:2.0
PRODID:-//Nepali Calendar//EN
BEGIN:VEVENT
UID:d96c07b47225e83f4a25c74bfc0cebdc@nepalicalendar.com
DTSTAMP:20260421T130545Z
DTSTART;VALUE=DATE:20251230
DTEND;VALUE=DATE:20251231
SUMMARY:पुत्रदा एकादशी व्रत
DESCRIPTION:पुत्रदा एकादशी व्रत
END:VEVENT
END:VCALENDAR