BEGIN:VCALENDAR
VERSION:2.0
PRODID:-//Nepali Calendar//EN
BEGIN:VEVENT
UID:56ace1098af543342957cf518eab7d3e@nepalicalendar.com
DTSTAMP:20260421T130734Z
DTSTART;VALUE=DATE:20251230
DTEND;VALUE=DATE:20251231
SUMMARY:कवि शिरोमणि लेखनाथ जयन्ती
DESCRIPTION:कवि शिरोमणि लेखनाथ जयन्ती
END:VEVENT
END:VCALENDAR