BEGIN:VCALENDAR
VERSION:2.0
PRODID:-//Nepali Calendar//EN
BEGIN:VEVENT
UID:1b94726b7428fa95456fb65504c2c259@nepalicalendar.com
DTSTAMP:20260421T130904Z
DTSTART;VALUE=DATE:20251230
DTEND;VALUE=DATE:20251231
SUMMARY:तमु ल्होसार
DESCRIPTION:तमु ल्होसार
END:VEVENT
END:VCALENDAR