BEGIN:VCALENDAR
VERSION:2.0
PRODID:-//Nepali Calendar//EN
BEGIN:VEVENT
UID:b77b18661deef8cc28ed4db6f358f3ef@nepalicalendar.com
DTSTAMP:20260421T130948Z
DTSTART;VALUE=DATE:20251228
DTEND;VALUE=DATE:20251229
SUMMARY:गोरखकाली पूजा
DESCRIPTION:गोरखकाली पूजा
END:VEVENT
END:VCALENDAR