BEGIN:VCALENDAR
VERSION:2.0
PRODID:-//Nepali Calendar//EN
BEGIN:VEVENT
UID:4a78027a24e53cf55a0f7ed060efe5e5@nepalicalendar.com
DTSTAMP:20260421T131124Z
DTSTART;VALUE=DATE:20251225
DTEND;VALUE=DATE:20251226
SUMMARY:क्रिसमस-डे
DESCRIPTION:क्रिसमस-डे
END:VEVENT
END:VCALENDAR