BEGIN:VCALENDAR
VERSION:2.0
PRODID:-//Nepali Calendar//EN
BEGIN:VEVENT
UID:1e5ca806c2f4ce6e3ebac99c5309e38a@nepalicalendar.com
DTSTAMP:20260421T114047Z
DTSTART;VALUE=DATE:20260211
DTEND;VALUE=DATE:20260212
SUMMARY:सुरक्षित इन्टरनेट दिवस
DESCRIPTION:सुरक्षित इन्टरनेट दिवस
END:VEVENT
END:VCALENDAR