BEGIN:VCALENDAR
VERSION:2.0
PRODID:-//Nepali Calendar//EN
BEGIN:VEVENT
UID:ac072c200027a772a2bef6682b5bba97@nepalicalendar.com
DTSTAMP:20260421T113851Z
DTSTART;VALUE=DATE:20260211
DTEND;VALUE=DATE:20260212
SUMMARY:विज्ञानमा महिला पहुँचको अन्तर्राष्ट्रिय दिवस
DESCRIPTION:विज्ञानमा महिला पहुँचको अन्तर्राष्ट्रिय दिवस
END:VEVENT
END:VCALENDAR