BEGIN:VCALENDAR
VERSION:2.0
PRODID:-//Nepali Calendar//EN
BEGIN:VEVENT
UID:daee4fbf4e03f5ec060f3dd9ef905e0d@nepalicalendar.com
DTSTAMP:20260421T114133Z
DTSTART;VALUE=DATE:20260209
DTEND;VALUE=DATE:20260210
SUMMARY:गोरखकाली पूजा
DESCRIPTION:गोरखकाली पूजा
END:VEVENT
END:VCALENDAR