BEGIN:VCALENDAR
VERSION:2.0
PRODID:-//Nepali Calendar//EN
BEGIN:VEVENT
UID:0072e73357be3f2e7d42f85009829c28@nepalicalendar.com
DTSTAMP:20260421T113604Z
DTSTART;VALUE=DATE:20260204
DTEND;VALUE=DATE:20260205
SUMMARY:विश्व क्यान्सर दिवस
DESCRIPTION:विश्व क्यान्सर दिवस
END:VEVENT
END:VCALENDAR