BEGIN:VCALENDAR
VERSION:2.0
PRODID:-//Nepali Calendar//EN
BEGIN:VEVENT
UID:49b6fee55908c26b95dfe0916dba3a07@nepalicalendar.com
DTSTAMP:20260422T023142Z
DTSTART;VALUE=DATE:20250424
DTEND;VALUE=DATE:20250425
SUMMARY:विश्व खोप सप्ताह
DESCRIPTION:विश्व खोप सप्ताह
END:VEVENT
END:VCALENDAR